BEGIN:VCALENDAR
VERSION:2.0
PRODID:-//Americantiga Ensemble - ECPv6.10.2//NONSGML v1.0//EN
CALSCALE:GREGORIAN
METHOD:PUBLISH
X-ORIGINAL-URL:https://americantiga.com
X-WR-CALDESC:Events for Americantiga Ensemble
REFRESH-INTERVAL;VALUE=DURATION:PT1H
X-Robots-Tag:noindex
X-PUBLISHED-TTL:PT1H
BEGIN:VTIMEZONE
TZID:UTC
BEGIN:STANDARD
TZOFFSETFROM:+0000
TZOFFSETTO:+0000
TZNAME:UTC
DTSTART:20250101T000000
END:STANDARD
END:VTIMEZONE
BEGIN:VEVENT
DTSTART;TZID=UTC:20250605T193000
DTEND;TZID=UTC:20250605T210000
DTSTAMP:20260419T172145
CREATED:20250322T130344Z
LAST-MODIFIED:20250423T183333Z
UID:10000001-1749151800-1749157200@americantiga.com
SUMMARY:Brasile Barocco
DESCRIPTION:Americantiga Ensemble\nRicardo Bernardes\, direção musical \nArthur Filemon\, contratenor\nJoão Paulo Ferreira\, contratenor\nCalebe Barros\, barítono \nSala Palestrina | Palazzo Pamphilj\nPiazza Navona 14
URL:https://americantiga.com/event/barroco-in-brasile/
LOCATION:Ambasciata del Brasile in Italia – Palazzo Pamphilj\, Piazza Navona\, Roma\, Italy
ATTACH;FMTTYPE=image/jpeg:https://americantiga.com/wp-content/uploads/2025/03/Giuseppe-Vasi-View-of-the-Piazza-Navona-during-the-Ferragosto-holiday-1752-MeisterDrucke-56466-e1742653042639.jpg
END:VEVENT
END:VCALENDAR